BEGIN:VCALENDAR
VERSION:2.0
PRODID:-//Hoenicke Systembetreuung - ECPv6.15.20//NONSGML v1.0//EN
CALSCALE:GREGORIAN
METHOD:PUBLISH
X-WR-CALNAME:Hoenicke Systembetreuung
X-ORIGINAL-URL:https://edv-medizin.de
X-WR-CALDESC:Veranstaltungen für Hoenicke Systembetreuung
REFRESH-INTERVAL;VALUE=DURATION:PT1H
X-Robots-Tag:noindex
X-PUBLISHED-TTL:PT1H
BEGIN:VTIMEZONE
TZID:Europe/Berlin
BEGIN:DAYLIGHT
TZOFFSETFROM:+0100
TZOFFSETTO:+0200
TZNAME:CEST
DTSTART:20250330T010000
END:DAYLIGHT
BEGIN:STANDARD
TZOFFSETFROM:+0200
TZOFFSETTO:+0100
TZNAME:CET
DTSTART:20251026T010000
END:STANDARD
BEGIN:DAYLIGHT
TZOFFSETFROM:+0100
TZOFFSETTO:+0200
TZNAME:CEST
DTSTART:20260329T010000
END:DAYLIGHT
BEGIN:STANDARD
TZOFFSETFROM:+0200
TZOFFSETTO:+0100
TZNAME:CET
DTSTART:20261025T010000
END:STANDARD
BEGIN:DAYLIGHT
TZOFFSETFROM:+0100
TZOFFSETTO:+0200
TZNAME:CEST
DTSTART:20270328T010000
END:DAYLIGHT
BEGIN:STANDARD
TZOFFSETFROM:+0200
TZOFFSETTO:+0100
TZNAME:CET
DTSTART:20271031T010000
END:STANDARD
END:VTIMEZONE
BEGIN:VEVENT
DTSTART;TZID=Europe/Berlin:20260424T130000
DTEND;TZID=Europe/Berlin:20260424T140000
DTSTAMP:20260421T101132
CREATED:20260415T091845Z
LAST-MODIFIED:20260415T091900Z
UID:10000007-1777035600-1777039200@edv-medizin.de
SUMMARY:psyx live erleben – Einstiegsvorführung
DESCRIPTION:
URL:https://edv-medizin.de/event/psyx-live-erleben-einstiegsvorfuehrung/2026-04-24/
LOCATION:Hoenicke Systembetreuung Online
CATEGORIES:psyx live
ORGANIZER;CN="Hoenicke Systembetreuung GmbH":MAILTO:info@edv-medizin.de
END:VEVENT
BEGIN:VEVENT
DTSTART;TZID=Europe/Berlin:20260501T130000
DTEND;TZID=Europe/Berlin:20260501T140000
DTSTAMP:20260421T101133
CREATED:20260415T091845Z
LAST-MODIFIED:20260415T091900Z
UID:10000008-1777640400-1777644000@edv-medizin.de
SUMMARY:psyx live erleben – Einstiegsvorführung
DESCRIPTION:
URL:https://edv-medizin.de/event/psyx-live-erleben-einstiegsvorfuehrung/2026-05-01/
LOCATION:Hoenicke Systembetreuung Online
CATEGORIES:psyx live
ORGANIZER;CN="Hoenicke Systembetreuung GmbH":MAILTO:info@edv-medizin.de
END:VEVENT
BEGIN:VEVENT
DTSTART;TZID=Europe/Berlin:20260508T130000
DTEND;TZID=Europe/Berlin:20260508T140000
DTSTAMP:20260421T101133
CREATED:20260415T091845Z
LAST-MODIFIED:20260415T091900Z
UID:10000009-1778245200-1778248800@edv-medizin.de
SUMMARY:psyx live erleben – Einstiegsvorführung
DESCRIPTION:
URL:https://edv-medizin.de/event/psyx-live-erleben-einstiegsvorfuehrung/2026-05-08/
LOCATION:Hoenicke Systembetreuung Online
CATEGORIES:psyx live
ORGANIZER;CN="Hoenicke Systembetreuung GmbH":MAILTO:info@edv-medizin.de
END:VEVENT
BEGIN:VEVENT
DTSTART;TZID=Europe/Berlin:20260512T170000
DTEND;TZID=Europe/Berlin:20260512T200000
DTSTAMP:20260421T101133
CREATED:20260415T092138Z
LAST-MODIFIED:20260415T093513Z
UID:10000042-1778605200-1778616000@edv-medizin.de
SUMMARY:Qualitätszirkel „Digitale Praxis“
DESCRIPTION:
URL:https://edv-medizin.de/event/qualitaetszirkel-digitale-praxis/2026-05-12/
LOCATION:Hoenicke Systembetreuung Online
CATEGORIES:Qualitätszirkel
ORGANIZER;CN="Hoenicke Systembetreuung GmbH":MAILTO:info@edv-medizin.de
END:VEVENT
BEGIN:VEVENT
DTSTART;TZID=Europe/Berlin:20260515T130000
DTEND;TZID=Europe/Berlin:20260515T140000
DTSTAMP:20260421T101133
CREATED:20260415T091845Z
LAST-MODIFIED:20260415T091900Z
UID:10000010-1778850000-1778853600@edv-medizin.de
SUMMARY:psyx live erleben – Einstiegsvorführung
DESCRIPTION:
URL:https://edv-medizin.de/event/psyx-live-erleben-einstiegsvorfuehrung/2026-05-15/
LOCATION:Hoenicke Systembetreuung Online
CATEGORIES:psyx live
ORGANIZER;CN="Hoenicke Systembetreuung GmbH":MAILTO:info@edv-medizin.de
END:VEVENT
BEGIN:VEVENT
DTSTART;TZID=Europe/Berlin:20260522T130000
DTEND;TZID=Europe/Berlin:20260522T140000
DTSTAMP:20260421T101133
CREATED:20260415T091845Z
LAST-MODIFIED:20260415T091900Z
UID:10000011-1779454800-1779458400@edv-medizin.de
SUMMARY:psyx live erleben – Einstiegsvorführung
DESCRIPTION:
URL:https://edv-medizin.de/event/psyx-live-erleben-einstiegsvorfuehrung/2026-05-22/
LOCATION:Hoenicke Systembetreuung Online
CATEGORIES:psyx live
ORGANIZER;CN="Hoenicke Systembetreuung GmbH":MAILTO:info@edv-medizin.de
END:VEVENT
BEGIN:VEVENT
DTSTART;TZID=Europe/Berlin:20260529T130000
DTEND;TZID=Europe/Berlin:20260529T140000
DTSTAMP:20260421T101133
CREATED:20260415T091845Z
LAST-MODIFIED:20260415T091900Z
UID:10000012-1780059600-1780063200@edv-medizin.de
SUMMARY:psyx live erleben – Einstiegsvorführung
DESCRIPTION:
URL:https://edv-medizin.de/event/psyx-live-erleben-einstiegsvorfuehrung/2026-05-29/
LOCATION:Hoenicke Systembetreuung Online
CATEGORIES:psyx live
ORGANIZER;CN="Hoenicke Systembetreuung GmbH":MAILTO:info@edv-medizin.de
END:VEVENT
BEGIN:VEVENT
DTSTART;TZID=Europe/Berlin:20260603T160000
DTEND;TZID=Europe/Berlin:20260603T190000
DTSTAMP:20260421T101133
CREATED:20260415T090517Z
LAST-MODIFIED:20260415T090614Z
UID:10000002-1780502400-1780513200@edv-medizin.de
SUMMARY:Qualitätszirkel „Digitale Praxis“ (ärztliche Themen)
DESCRIPTION:am 15.4. begrüßen wir Konstantin Eckert von Honorar+
URL:https://edv-medizin.de/event/qualitaetszirkel-digitale-praxis-aerztliche-themen-mit-honorarplus/2026-06-03/
LOCATION:Hoenicke Systembetreuung Online
CATEGORIES:Qualitätszirkel
ORGANIZER;CN="Hoenicke Systembetreuung GmbH":MAILTO:info@edv-medizin.de
END:VEVENT
BEGIN:VEVENT
DTSTART;TZID=Europe/Berlin:20260605T130000
DTEND;TZID=Europe/Berlin:20260605T140000
DTSTAMP:20260421T101133
CREATED:20260415T091845Z
LAST-MODIFIED:20260415T091900Z
UID:10000013-1780664400-1780668000@edv-medizin.de
SUMMARY:psyx live erleben – Einstiegsvorführung
DESCRIPTION:
URL:https://edv-medizin.de/event/psyx-live-erleben-einstiegsvorfuehrung/2026-06-05/
LOCATION:Hoenicke Systembetreuung Online
CATEGORIES:psyx live
ORGANIZER;CN="Hoenicke Systembetreuung GmbH":MAILTO:info@edv-medizin.de
END:VEVENT
BEGIN:VEVENT
DTSTART;TZID=Europe/Berlin:20260612T130000
DTEND;TZID=Europe/Berlin:20260612T140000
DTSTAMP:20260421T101133
CREATED:20260415T091845Z
LAST-MODIFIED:20260415T091900Z
UID:10000014-1781269200-1781272800@edv-medizin.de
SUMMARY:psyx live erleben – Einstiegsvorführung
DESCRIPTION:
URL:https://edv-medizin.de/event/psyx-live-erleben-einstiegsvorfuehrung/2026-06-12/
LOCATION:Hoenicke Systembetreuung Online
CATEGORIES:psyx live
ORGANIZER;CN="Hoenicke Systembetreuung GmbH":MAILTO:info@edv-medizin.de
END:VEVENT
BEGIN:VEVENT
DTSTART;TZID=Europe/Berlin:20260619T130000
DTEND;TZID=Europe/Berlin:20260619T140000
DTSTAMP:20260421T101133
CREATED:20260415T091845Z
LAST-MODIFIED:20260415T091900Z
UID:10000015-1781874000-1781877600@edv-medizin.de
SUMMARY:psyx live erleben – Einstiegsvorführung
DESCRIPTION:
URL:https://edv-medizin.de/event/psyx-live-erleben-einstiegsvorfuehrung/2026-06-19/
LOCATION:Hoenicke Systembetreuung Online
CATEGORIES:psyx live
ORGANIZER;CN="Hoenicke Systembetreuung GmbH":MAILTO:info@edv-medizin.de
END:VEVENT
BEGIN:VEVENT
DTSTART;TZID=Europe/Berlin:20260626T130000
DTEND;TZID=Europe/Berlin:20260626T140000
DTSTAMP:20260421T101133
CREATED:20260415T091845Z
LAST-MODIFIED:20260415T091900Z
UID:10000016-1782478800-1782482400@edv-medizin.de
SUMMARY:psyx live erleben – Einstiegsvorführung
DESCRIPTION:
URL:https://edv-medizin.de/event/psyx-live-erleben-einstiegsvorfuehrung/2026-06-26/
LOCATION:Hoenicke Systembetreuung Online
CATEGORIES:psyx live
ORGANIZER;CN="Hoenicke Systembetreuung GmbH":MAILTO:info@edv-medizin.de
END:VEVENT
BEGIN:VEVENT
DTSTART;TZID=Europe/Berlin:20260703T130000
DTEND;TZID=Europe/Berlin:20260703T140000
DTSTAMP:20260421T101133
CREATED:20260415T091845Z
LAST-MODIFIED:20260415T091900Z
UID:10000017-1783083600-1783087200@edv-medizin.de
SUMMARY:psyx live erleben – Einstiegsvorführung
DESCRIPTION:
URL:https://edv-medizin.de/event/psyx-live-erleben-einstiegsvorfuehrung/2026-07-03/
LOCATION:Hoenicke Systembetreuung Online
CATEGORIES:psyx live
ORGANIZER;CN="Hoenicke Systembetreuung GmbH":MAILTO:info@edv-medizin.de
END:VEVENT
BEGIN:VEVENT
DTSTART;TZID=Europe/Berlin:20260709T170000
DTEND;TZID=Europe/Berlin:20260709T200000
DTSTAMP:20260421T101133
CREATED:20260415T092138Z
LAST-MODIFIED:20260415T093513Z
UID:10000043-1783616400-1783627200@edv-medizin.de
SUMMARY:Qualitätszirkel „Digitale Praxis“
DESCRIPTION:
URL:https://edv-medizin.de/event/qualitaetszirkel-digitale-praxis/2026-07-09/
LOCATION:Hoenicke Systembetreuung Online
CATEGORIES:Qualitätszirkel
ORGANIZER;CN="Hoenicke Systembetreuung GmbH":MAILTO:info@edv-medizin.de
END:VEVENT
BEGIN:VEVENT
DTSTART;TZID=Europe/Berlin:20260710T130000
DTEND;TZID=Europe/Berlin:20260710T140000
DTSTAMP:20260421T101133
CREATED:20260415T091845Z
LAST-MODIFIED:20260415T091900Z
UID:10000018-1783688400-1783692000@edv-medizin.de
SUMMARY:psyx live erleben – Einstiegsvorführung
DESCRIPTION:
URL:https://edv-medizin.de/event/psyx-live-erleben-einstiegsvorfuehrung/2026-07-10/
LOCATION:Hoenicke Systembetreuung Online
CATEGORIES:psyx live
ORGANIZER;CN="Hoenicke Systembetreuung GmbH":MAILTO:info@edv-medizin.de
END:VEVENT
BEGIN:VEVENT
DTSTART;TZID=Europe/Berlin:20260717T130000
DTEND;TZID=Europe/Berlin:20260717T140000
DTSTAMP:20260421T101133
CREATED:20260415T091845Z
LAST-MODIFIED:20260415T091900Z
UID:10000019-1784293200-1784296800@edv-medizin.de
SUMMARY:psyx live erleben – Einstiegsvorführung
DESCRIPTION:
URL:https://edv-medizin.de/event/psyx-live-erleben-einstiegsvorfuehrung/2026-07-17/
LOCATION:Hoenicke Systembetreuung Online
CATEGORIES:psyx live
ORGANIZER;CN="Hoenicke Systembetreuung GmbH":MAILTO:info@edv-medizin.de
END:VEVENT
BEGIN:VEVENT
DTSTART;TZID=Europe/Berlin:20260724T130000
DTEND;TZID=Europe/Berlin:20260724T140000
DTSTAMP:20260421T101133
CREATED:20260415T091845Z
LAST-MODIFIED:20260415T091900Z
UID:10000020-1784898000-1784901600@edv-medizin.de
SUMMARY:psyx live erleben – Einstiegsvorführung
DESCRIPTION:
URL:https://edv-medizin.de/event/psyx-live-erleben-einstiegsvorfuehrung/2026-07-24/
LOCATION:Hoenicke Systembetreuung Online
CATEGORIES:psyx live
ORGANIZER;CN="Hoenicke Systembetreuung GmbH":MAILTO:info@edv-medizin.de
END:VEVENT
BEGIN:VEVENT
DTSTART;TZID=Europe/Berlin:20260731T130000
DTEND;TZID=Europe/Berlin:20260731T140000
DTSTAMP:20260421T101133
CREATED:20260415T091845Z
LAST-MODIFIED:20260415T091900Z
UID:10000021-1785502800-1785506400@edv-medizin.de
SUMMARY:psyx live erleben – Einstiegsvorführung
DESCRIPTION:
URL:https://edv-medizin.de/event/psyx-live-erleben-einstiegsvorfuehrung/2026-07-31/
LOCATION:Hoenicke Systembetreuung Online
CATEGORIES:psyx live
ORGANIZER;CN="Hoenicke Systembetreuung GmbH":MAILTO:info@edv-medizin.de
END:VEVENT
BEGIN:VEVENT
DTSTART;TZID=Europe/Berlin:20260805T160000
DTEND;TZID=Europe/Berlin:20260805T190000
DTSTAMP:20260421T101133
CREATED:20260415T090517Z
LAST-MODIFIED:20260415T090614Z
UID:10000003-1785945600-1785956400@edv-medizin.de
SUMMARY:Qualitätszirkel „Digitale Praxis“ (ärztliche Themen)
DESCRIPTION:am 15.4. begrüßen wir Konstantin Eckert von Honorar+
URL:https://edv-medizin.de/event/qualitaetszirkel-digitale-praxis-aerztliche-themen-mit-honorarplus/2026-08-05/
LOCATION:Hoenicke Systembetreuung Online
CATEGORIES:Qualitätszirkel
ORGANIZER;CN="Hoenicke Systembetreuung GmbH":MAILTO:info@edv-medizin.de
END:VEVENT
BEGIN:VEVENT
DTSTART;TZID=Europe/Berlin:20260807T130000
DTEND;TZID=Europe/Berlin:20260807T140000
DTSTAMP:20260421T101133
CREATED:20260415T091845Z
LAST-MODIFIED:20260415T091900Z
UID:10000022-1786107600-1786111200@edv-medizin.de
SUMMARY:psyx live erleben – Einstiegsvorführung
DESCRIPTION:
URL:https://edv-medizin.de/event/psyx-live-erleben-einstiegsvorfuehrung/2026-08-07/
LOCATION:Hoenicke Systembetreuung Online
CATEGORIES:psyx live
ORGANIZER;CN="Hoenicke Systembetreuung GmbH":MAILTO:info@edv-medizin.de
END:VEVENT
BEGIN:VEVENT
DTSTART;TZID=Europe/Berlin:20260814T130000
DTEND;TZID=Europe/Berlin:20260814T140000
DTSTAMP:20260421T101133
CREATED:20260415T091845Z
LAST-MODIFIED:20260415T091900Z
UID:10000023-1786712400-1786716000@edv-medizin.de
SUMMARY:psyx live erleben – Einstiegsvorführung
DESCRIPTION:
URL:https://edv-medizin.de/event/psyx-live-erleben-einstiegsvorfuehrung/2026-08-14/
LOCATION:Hoenicke Systembetreuung Online
CATEGORIES:psyx live
ORGANIZER;CN="Hoenicke Systembetreuung GmbH":MAILTO:info@edv-medizin.de
END:VEVENT
BEGIN:VEVENT
DTSTART;TZID=Europe/Berlin:20260821T130000
DTEND;TZID=Europe/Berlin:20260821T140000
DTSTAMP:20260421T101133
CREATED:20260415T091845Z
LAST-MODIFIED:20260415T091900Z
UID:10000024-1787317200-1787320800@edv-medizin.de
SUMMARY:psyx live erleben – Einstiegsvorführung
DESCRIPTION:
URL:https://edv-medizin.de/event/psyx-live-erleben-einstiegsvorfuehrung/2026-08-21/
LOCATION:Hoenicke Systembetreuung Online
CATEGORIES:psyx live
ORGANIZER;CN="Hoenicke Systembetreuung GmbH":MAILTO:info@edv-medizin.de
END:VEVENT
BEGIN:VEVENT
DTSTART;TZID=Europe/Berlin:20260828T130000
DTEND;TZID=Europe/Berlin:20260828T140000
DTSTAMP:20260421T101133
CREATED:20260415T091845Z
LAST-MODIFIED:20260415T091900Z
UID:10000025-1787922000-1787925600@edv-medizin.de
SUMMARY:psyx live erleben – Einstiegsvorführung
DESCRIPTION:
URL:https://edv-medizin.de/event/psyx-live-erleben-einstiegsvorfuehrung/2026-08-28/
LOCATION:Hoenicke Systembetreuung Online
CATEGORIES:psyx live
ORGANIZER;CN="Hoenicke Systembetreuung GmbH":MAILTO:info@edv-medizin.de
END:VEVENT
BEGIN:VEVENT
DTSTART;TZID=Europe/Berlin:20260904T100000
DTEND;TZID=Europe/Berlin:20260904T180000
DTSTAMP:20260421T101133
CREATED:20260415T094218Z
LAST-MODIFIED:20260415T095717Z
UID:10000046-1788516000-1788544800@edv-medizin.de
SUMMARY:Hausmesse #2 - Hoenicke Systembetreuung
DESCRIPTION:
URL:https://edv-medizin.de/event/hausmesse-2-hoenicke-systembetreuung/
LOCATION:Gutshaus Bandelstorf\, Gutshof Bandelstorf 1\, Bandelstorf\, Mecklenburg-Vorpommern\, 18196\, Germany
CATEGORIES:Messe
ORGANIZER;CN="Hoenicke Systembetreuung GmbH":MAILTO:info@edv-medizin.de
END:VEVENT
BEGIN:VEVENT
DTSTART;TZID=Europe/Berlin:20260904T130000
DTEND;TZID=Europe/Berlin:20260904T140000
DTSTAMP:20260421T101133
CREATED:20260415T091845Z
LAST-MODIFIED:20260415T091900Z
UID:10000026-1788526800-1788530400@edv-medizin.de
SUMMARY:psyx live erleben – Einstiegsvorführung
DESCRIPTION:
URL:https://edv-medizin.de/event/psyx-live-erleben-einstiegsvorfuehrung/2026-09-04/
LOCATION:Hoenicke Systembetreuung Online
CATEGORIES:psyx live
ORGANIZER;CN="Hoenicke Systembetreuung GmbH":MAILTO:info@edv-medizin.de
END:VEVENT
BEGIN:VEVENT
DTSTART;TZID=Europe/Berlin:20260910T170000
DTEND;TZID=Europe/Berlin:20260910T200000
DTSTAMP:20260421T101133
CREATED:20260415T092138Z
LAST-MODIFIED:20260415T093513Z
UID:10000044-1789059600-1789070400@edv-medizin.de
SUMMARY:Qualitätszirkel „Digitale Praxis“
DESCRIPTION:
URL:https://edv-medizin.de/event/qualitaetszirkel-digitale-praxis/2026-09-10/
LOCATION:Hoenicke Systembetreuung Online
CATEGORIES:Qualitätszirkel
ORGANIZER;CN="Hoenicke Systembetreuung GmbH":MAILTO:info@edv-medizin.de
END:VEVENT
BEGIN:VEVENT
DTSTART;TZID=Europe/Berlin:20260911T130000
DTEND;TZID=Europe/Berlin:20260911T140000
DTSTAMP:20260421T101133
CREATED:20260415T091845Z
LAST-MODIFIED:20260415T091900Z
UID:10000027-1789131600-1789135200@edv-medizin.de
SUMMARY:psyx live erleben – Einstiegsvorführung
DESCRIPTION:
URL:https://edv-medizin.de/event/psyx-live-erleben-einstiegsvorfuehrung/2026-09-11/
LOCATION:Hoenicke Systembetreuung Online
CATEGORIES:psyx live
ORGANIZER;CN="Hoenicke Systembetreuung GmbH":MAILTO:info@edv-medizin.de
END:VEVENT
BEGIN:VEVENT
DTSTART;TZID=Europe/Berlin:20260918T130000
DTEND;TZID=Europe/Berlin:20260918T140000
DTSTAMP:20260421T101133
CREATED:20260415T091845Z
LAST-MODIFIED:20260415T091900Z
UID:10000028-1789736400-1789740000@edv-medizin.de
SUMMARY:psyx live erleben – Einstiegsvorführung
DESCRIPTION:
URL:https://edv-medizin.de/event/psyx-live-erleben-einstiegsvorfuehrung/2026-09-18/
LOCATION:Hoenicke Systembetreuung Online
CATEGORIES:psyx live
ORGANIZER;CN="Hoenicke Systembetreuung GmbH":MAILTO:info@edv-medizin.de
END:VEVENT
BEGIN:VEVENT
DTSTART;TZID=Europe/Berlin:20260925T130000
DTEND;TZID=Europe/Berlin:20260925T140000
DTSTAMP:20260421T101133
CREATED:20260415T091845Z
LAST-MODIFIED:20260415T091900Z
UID:10000029-1790341200-1790344800@edv-medizin.de
SUMMARY:psyx live erleben – Einstiegsvorführung
DESCRIPTION:
URL:https://edv-medizin.de/event/psyx-live-erleben-einstiegsvorfuehrung/2026-09-25/
LOCATION:Hoenicke Systembetreuung Online
CATEGORIES:psyx live
ORGANIZER;CN="Hoenicke Systembetreuung GmbH":MAILTO:info@edv-medizin.de
END:VEVENT
BEGIN:VEVENT
DTSTART;TZID=Europe/Berlin:20261002T130000
DTEND;TZID=Europe/Berlin:20261002T140000
DTSTAMP:20260421T101133
CREATED:20260415T091845Z
LAST-MODIFIED:20260415T091900Z
UID:10000030-1790946000-1790949600@edv-medizin.de
SUMMARY:psyx live erleben – Einstiegsvorführung
DESCRIPTION:
URL:https://edv-medizin.de/event/psyx-live-erleben-einstiegsvorfuehrung/2026-10-02/
LOCATION:Hoenicke Systembetreuung Online
CATEGORIES:psyx live
ORGANIZER;CN="Hoenicke Systembetreuung GmbH":MAILTO:info@edv-medizin.de
END:VEVENT
END:VCALENDAR